Workbook

Sheet formulář 2.2.3
A1: 2.2.3 Datasheet - zájem o spolupráci s ÚTT v rámci realizace aktivit potvrzení konceptu (P-o-C) "Oznámení výsledku"
A2: Formulář "Oznámení výsledku" slouží k oznámení výsledku výzkumu a vyjádření zájmu o spolupráci s ÚTT v rámci realizace aktivit potvrzení konceptu (P-o-C)
A3: Formulář (odst. 2.2.3) k vyplnění:
A4: Název dílčího projektu:
A5: Abstrakt:
A12: Hlavní původce (řešitel) řešení:
A13: Jméno, Příjmení, titul:
A14: Pozice: | B14: Pracoviště:
A15: Podíl na řešení: % | B15: Adresa (pracoviště):
A16: E-mail:
A17: Telefon:
A18: Spolupůvodce (spoluřešitel) řešení:
A19: Jméno, Příjmení, titul:
A20: Pozice: | B20: Pracoviště:
A21: Podíl na řešení: % | B21: Adresa (pracoviště):
A22: E-mail:
A23: Telefon:
A24: V jakém stavu příprav či realizace se aktuálně předkládaná nadějná technologie či vynález nachází? (stačí velmi stručně, např. „v současné době je ve fázi poloprovozu“)
A26: Lze předpokládat, že lze provést technologické ověření možnosti komercializace během 6 měsíců od oznámení vzniku výsledku?
A28: V případě že ano, pak jakým způsobem bude technologické ověření (dopracování) provedeno?
A30: Na základě jakých podpůrných důkazů jste schopni doložit budoucí zájem z komerční sféry?
A32: Jakým způsobem chcete provést komercializaci „produktu“ (licence, start-up/spin-off, smluvní spolupráce)?
A34: Jaká je konkurenční výhoda vašeho technologického řešení oproti jiným obdobným produktům na trhu?
A36: Byl vynález/technologické řešení publikován? (kdy, kde) Existuje nějaký související projekt, na který již byla poskytnuta dotace či podpora nebo je ve fázi podané žádosti?
A38: Byla již provedena nějaká fáze ochrany duševního vlastnictví (počínaje patentovou rešerší, podáním patentové přihlášky…až po udělení patentu), a v jaké fázi se nyní nachází?
A40: Pokud ano, v jaké fázi se nyní nachází?
A42: Pokud nebylo duševní vlastnictví zatím chráněno, jaký je jeho předpokládaný způsob ochrany?
... A50: Předpokládané náklady na dopracování technologie:
A51: náklady | C51: částka (Kč)
A52: 2015 | C52: =+'rozpočet DP'!B3 -> 0
A53: 2016 | C53: =+'rozpočet DP'!C3 -> 0
A54: 2017 | C54: =+'rozpočet DP'!D3 -> 0
A55: 2018 | C55: =+'rozpočet DP'!E3 -> 0
A56: 2019 | C56: =+'rozpočet DP'!F3 -> 0
A57: CELKEM | C57: =SUM(C52:D56) -> 0
A58: Zdroj financování jiné než BC: uveďte, pokud se na projektu bude finančně podílet i jiný subjekt
A61: Jméno vedoucího pracoviště:
A62: Podpis vedoucího pracoviště:
A63: Podpis řešitele:
A64: Oznámení zpracováno ke dni:
...

Sheet rozpočet DP
A1: Název dílčího projektu: | B1: =T('[1]Zhodnocení DP'!B9:D9)
A2: Struktura rozpočtu dílčího projektu | B2: 2015 | C2: 2016 | D2: 2017 | E2: 2018 | F2: 2019 | G2: Celkem | H2: Max. výše podpory | I2: Zbývá
A3: TACR-GAMA: prostředky d.p. CELKEM | B3: =+B4+B5+B6+B7+B10 -> 0 | C3: =+C4+C5+C6+C7+C10 -> 0 | D3: =+D4+D5+D6+D7+D10 -> 0 | E3: =+E4+E5+E6+E7+E10 -> 0 | F3: =+F4+F5+F6+F7+F10 -> 0 | G3: =SUM(B3:F3) -> 0 | I3: =+H3-G3 -> 0
A4: 1. Osobní náklady TAČR | G4: =SUM(B4:F4) -> 0
A5: 2. Investice TAČR | G5: =SUM(B5:F5) -> 0
A6: 3. Náklady na služby (subdodávky)- max. 20% z celkových uznaných nákladů | G6: =SUM(B6:F6) -> 0
A7: 4. Ostatní přímé náklady | B7: =+B8+B9 -> 0 | C7: =+C8+C9 -> 0 | D7: =+D8+D9 -> 0 | E7: =+E8+E9 -> 0 | F7: =+F8+F9 -> 0 | G7: =SUM(B7:F7) -> 0
A8: 4.1 Náklady na ochranu duševního vlastnictví | G8: =SUM(B8:F8) -> 0
A9: 4.2 Ostatní provozní náklady | G9: =SUM(B9:F9) -> 0
A10: 5. Ostatní nepřímé náklady | B10: =+(B4+B5+B6+B7)*0.2 -> 0 | C10: =+(C4+C5+C6+C7)*0.2 -> 0 | D10: =+(D4+D5+D6+D7)*0.2 -> 0 | E10: =+(E4+E5+E6+E7)*0.2 -> 0 | F10: =+(F4+F5+F6+F7)*0.2 -> 0 | G10: =SUM(B10:F10) -> 0
A12: POZN. Řešitel vyplní pouze šedá pole.
A14: Uveďte položky potřebné pro technologické dopracování/vytvoření prototypu/funkčního vzorku a stručně uveďte (např. měření na přístroji XY, nákup komponent XY, apod., pronájem testovací laboratoře, nákup software apod.)
A15: 1. Osobní náklady TAČR
A16: 2. Investice TAČR
A17: 3. Náklady na služby (subdodávky)- max. 20% z přímých nákladů
A18: 4.1 Náklady na ochranu duševního vlastnictví
A19: 4.2 Ostatní provozní náklady

Sheet pravidla TAČR GAMA
A1: Dílčí projekty
A2: délka trvání je omezena na minimálně 6 a maximálně 36 měsíců
A4: Očekávané výsledky
A5: Návrh projektu musí zahrnovat dosažení druhů výsledků aplikovaného výzkumu, experimentálního vývoje definovaných v programu GAMA, podprogramu 1.
A6: P – patent;
A7: G – technicky realizované výsledky – prototyp, funkční vzorek;
A8: Z – poloprovoz, ověřená technologie;
A9: R – software;
A10: F – průmyslový a užitný vzor.
A11: O - Ostatní výsledky („Ostatní výsledky“ jsou takové výsledky, které nesplňují definice ostatních druhů výsledků výzkumu, experimentálního vývoje a inovací) například:
A12: - zkušební série
A13: - materiál s ověřenými vlastnostmi
... A45: Za způsobilé výdaje na pořízení dlouhodobého hmotného a nehmotného majetku potřebného pro řešení projektu je považována pouze ta část pořizovací ceny investice, která je rovna výši odpisů odpovídající délce trvání projektu, v rozsahu jeho využívání a době využívání pro potřeby řešení projektu vypočtené pomocí zavedených účetních postupů.
